BEGIN:VCALENDAR
VERSION:2.0
PRODID:-//AudioTheme 3.0.2
BEGIN:VEVENT
UID:urn:uuid:bbaca946-0a7a-4d94-acc8-6c867744f177
URL:https://westcoastbigband.nl/optredens/west-coast-bigband-nieuwjaarsconcert-2/
DTSTART;TZID=GMT:20240108T190000
SUMMARY:Nieuwjaarsconcert 2
DESCRIPTION:Nieuwjaarsconcert featuring Franklin Brown
LOCATION:De Theaterbakkerij\, Gouderaksedijk 24B\, Gouda\, \, 2808 NG
END:VEVENT
END:VCALENDAR
