BEGIN:VCALENDAR
VERSION:2.0
PRODID:-//AudioTheme 3.0.2
BEGIN:VEVENT
UID:urn:uuid:b3641d78-2576-4185-946b-a617fccbbf8e
URL:https://westcoastbigband.nl/optredens/soulparty-with-humphrey-campbell/
DTSTART;TZID=GMT:20170701T183000
SUMMARY:Soulparty with Humphrey Campbell
DESCRIPTION:Soulparty with Humphrey Campbell    An evening dedicated to soul music. Featuring Humphrey Campbell (and brothers).  Open at 20.00 hr\, concert starts at 20.30 hr.
LOCATION:Societeit Engels\, Koningin Emmakade 4\, Den Haag\, \, 2518 RJ
END:VEVENT
END:VCALENDAR
