BEGIN:VCALENDAR
VERSION:2.0
PRODID:-//AudioTheme 3.0.2
BEGIN:VEVENT
UID:urn:uuid:69a3df6f-7dc3-444a-ba29-2d5c6cfa1ba3
URL:https://westcoastbigband.nl/optredens/soul-party-with-cc-campbell-humphrey-campbell-and-brothers/
DTSTART;TZID=GMT:20171125T193000
SUMMARY:Soul Party with CC Campbell (Humphrey Campbell and brothers)
DESCRIPTION:This will be an evening full with soul music. Be prepared to join the crowd for some serious dancing!
LOCATION:Societeit Engels\, Koningin Emmakade 4\, Den Haag\, \, 2518 RJ
END:VEVENT
END:VCALENDAR
