BEGIN:VCALENDAR
VERSION:2.0
PRODID:-//AudioTheme 3.0.2
BEGIN:VEVENT
UID:urn:uuid:618ce7d2-d7a5-4b83-a4a9-39473f54910b
URL:https://westcoastbigband.nl/optredens/soul-night/
DTSTART;TZID=GMT:20180127T190000
SUMMARY:Soul Night
DESCRIPTION:Soul Night: West Coast Big Band featuring Orlando Milan
LOCATION:Theater 't Web\, Nachtegaallaan 4\, Bleiswijk\, \, 2665 EH
END:VEVENT
END:VCALENDAR
