BEGIN:VCALENDAR
VERSION:2.0
PRODID:-//AudioTheme 3.0.2
BEGIN:VEVENT
UID:urn:uuid:60d53ae6-d37d-449d-a4b9-5fb511b6f747
URL:https://westcoastbigband.nl/optredens/soul-gig-with-orlando-milan/
DTSTART;TZID=GMT:20170909T190000
SUMMARY:Soul gig with Orlando Milan
DESCRIPTION:Soul gig with Orlando Milan    Wereldfeest Papendrecht.  
LOCATION:Vijverpark Papendrecht\, Vijverpark\, Papendrecht\, \, 3353
END:VEVENT
END:VCALENDAR
