BEGIN:VCALENDAR
VERSION:2.0
PRODID:-//AudioTheme 3.0.2
BEGIN:VEVENT
UID:http://ec2-52-58-10-77.eu-central-1.compute.amazonaws.com/?post_type=audiotheme_gig&#038;p=70
URL:https://westcoastbigband.nl/optredens/societeit-engels/
DTSTART;TZID=GMT:20161211T140000
SUMMARY:Young Voices of The Hague
DESCRIPTION:West Coast Big Band and The Young Voices of The Hague    
LOCATION:Societeit Engels\, Koningin Emmakade 4\, Den Haag\, \, 2518 RJ
END:VEVENT
END:VCALENDAR
