BEGIN:VCALENDAR
VERSION:2.0
PRODID:-//AudioTheme 3.0.2
BEGIN:VEVENT
UID:urn:uuid:fcb1afb7-0484-488b-abcd-ffc6438fd63c
URL:https://westcoastbigband.nl/optredens/jazzdistillery/
DTSTART;TZID=GMT:20171006T170000
SUMMARY:JazzDistillery
DESCRIPTION:Jazz Distillery Festival Schiedam    West Coast Big Band featuring Tjindjara Metschendorp.  Details to be announced.
END:VEVENT
END:VCALENDAR
