BEGIN:VCALENDAR
VERSION:2.0
PRODID:-//AudioTheme 3.0.2
BEGIN:VEVENT
UID:urn:uuid:b1740c5d-2fd5-412a-a80b-e0b8459f7e2b
URL:https://westcoastbigband.nl/optredens/international-big-band-competion-topklasse/
DTSTART;VALUE=DATE:20170610
SUMMARY:International Big Band Competion - Topklasse
DESCRIPTION:Wederom neemt de West Coast Big Band mee aan de International Big Band Competition. Na de eerste prijs in de eerste klasse vorig jaar\, nemen we dit jaar deel in de topklasse.
LOCATION:Schouwburg De Meerse\, Raadhuisplein 3\, Hoofddorp\, \, 2132 TZ
END:VEVENT
END:VCALENDAR
