BEGIN:VCALENDAR
VERSION:2.0
PRODID:-//AudioTheme 3.0.2
BEGIN:VEVENT
UID:urn:uuid:cfaac991-efe3-42e4-8a1f-84b6535bb24e
URL:https://westcoastbigband.nl/optredens/frits-and-the-west-coast-dream-band-2/
DTSTART;TZID=GMT:20190215T190000
SUMMARY:Frits and the West Coast Dream Band
DESCRIPTION:Frits and the West Coast Dream Band    West Coast Big Band featuring Frits Landesbergen (vibes) plays the music of Terry Gibbs.
LOCATION:Cultuurpodium Den Dolder\, Dolderseweg 123b\, Den Dolder\, \, 3734 BG
END:VEVENT
END:VCALENDAR
