BEGIN:VCALENDAR
VERSION:2.0
PRODID:-//AudioTheme 3.0.2
BEGIN:VEVENT
UID:urn:uuid:50e641f4-f13d-423b-a04e-8b3af2ea9c06
URL:https://westcoastbigband.nl/optredens/festival-dag-der-kunsten/
DTSTART;TZID=GMT:20170618T143000
SUMMARY:Festival Dag der Kunsten
DESCRIPTION:Festival Dag der Kunsten    16.30 - 17.30 hr: The West Coast Big Band will be the closing act for this festival (which starts at 13:00 h).
LOCATION:Slot Zeist\, Zinzendorflaan 1\, Zeist\, \, 3703 CE
END:VEVENT
END:VCALENDAR
