BEGIN:VCALENDAR
VERSION:2.0
PRODID:-//AudioTheme 3.0.2
BEGIN:VEVENT
UID:urn:uuid:2f949508-e012-41f5-ba26-0ec75c54a2fa
URL:https://westcoastbigband.nl/optredens/bedrijfsfeest-ss-rotterdam/
DTSTART;TZID=GMT:20240417T180000
SUMMARY:Bedrijfsfeest SS Rotterdam
DESCRIPTION:Besloten bedrijfsfeest  West Coast Big Band ft. Franklin Brown & Dennis van Aarsen. Presentatie: Bart Nolles
LOCATION:SS Rotterdam\, 3e Katendrechtse Hoofd 25\, Rotterdam\, \, 3072 AM
END:VEVENT
END:VCALENDAR
