BEGIN:VCALENDAR
VERSION:2.0
PRODID:-//AudioTheme 3.0.2
BEGIN:VEVENT
UID:urn:uuid:533a5600-aa70-43c3-986e-333dc7edd7ee
URL:https://westcoastbigband.nl/optredens/bart-en-erik-van-lier/
DTSTART;TZID=GMT:20171103T190000
SUMMARY:Bart en Erik van Lier
DESCRIPTION:West Coast Big Band featuring Bart van Lier and Erik van Lier    Details to be announced.
LOCATION:Cultuurpodium Den Dolder\, Dolderseweg 123b\, Den Dolder\, \, 3734 BG
END:VEVENT
END:VCALENDAR
